BEGIN:VCALENDAR
VERSION:2.0
PRODID:-//hacksw/handcal//NONSGML v1.0//EN
BEGIN:VEVENT
SUMMARY:Groupe SEF
UID:8921a6a1-24b9-403b-a932-5374524ba9de
DTSTART:20260721T070000Z
DTEND:20260721T093000Z
LOCATION:Localisation   
CATEGORIES:Sportif
STATUS:
URL;VALUE=URI:https://cluses-bridge.club.ffbridge.fr/evenements/2026/07/21/groupe-sef-2436079
END:VEVENT
END:VCALENDAR
