BEGIN:VCALENDAR
VERSION:2.0
PRODID:-//hacksw/handcal//NONSGML v1.0//EN
BEGIN:VEVENT
SUMMARY:Groupe BF2
UID:082fdb48-811b-4991-96e5-efe9c1b5c1c5
DTSTART:20260721T123000Z
DTEND:20260721T153000Z
LOCATION:Localisation   
CATEGORIES:Sportif
STATUS:
URL;VALUE=URI:https://cluses-bridge.club.ffbridge.fr/evenements/2026/07/21/groupe-bf2-2436089
END:VEVENT
END:VCALENDAR
