BEGIN:VCALENDAR
VERSION:2.0
PRODID:-//hacksw/handcal//NONSGML v1.0//EN
BEGIN:VEVENT
SUMMARY:Tournoi de regularite et BF2
UID:88eee852-4911-499e-851c-4205b58ff7e8
DTSTART:20260710T121500Z
DTEND:20260710T161500Z
LOCATION:Bridge Club de Cluses 36 rue du Marcelly Parvis des Esserts 74300 cluses
CATEGORIES:Sportif
STATUS:
URL;VALUE=URI:https://cluses-bridge.club.ffbridge.fr/evenements/2026/07/10/tournoi-de-regularite-et-bf2-2258498
END:VEVENT
END:VCALENDAR
