BEGIN:VCALENDAR
VERSION:2.0
PRODID:-//hacksw/handcal//NONSGML v1.0//EN
BEGIN:VEVENT
SUMMARY:Groupe SEF
UID:16b0b12e-0919-4c6e-afc0-4507689c4590
DTSTART:20260602T070000Z
DTEND:20260602T093000Z
LOCATION:Localisation   
CATEGORIES:Sportif
STATUS:
URL;VALUE=URI:https://cluses-bridge.club.ffbridge.fr/evenements/2026/06/02/groupe-sef-2436080
END:VEVENT
END:VCALENDAR
