BEGIN:VCALENDAR
VERSION:2.0
PRODID:-//hacksw/handcal//NONSGML v1.0//EN
BEGIN:VEVENT
SUMMARY:Groupe BF2
UID:26a375c0-a9ca-4b3a-8603-d68a6d71c116
DTSTART:20260602T123000Z
DTEND:20260602T153000Z
LOCATION:Localisation   
CATEGORIES:Sportif
STATUS:
URL;VALUE=URI:https://cluses-bridge.club.ffbridge.fr/evenements/2026/06/02/groupe-bf2-2436090
END:VEVENT
END:VCALENDAR
