BEGIN:VCALENDAR
VERSION:2.0
PRODID:-//hacksw/handcal//NONSGML v1.0//EN
BEGIN:VEVENT
SUMMARY:Perfectionnement Pour Tous (PPT)
UID:d57c4ea4-112e-43a3-b5ec-6799c4392a47
DTSTART:20260526T123000Z
DTEND:20260526T153000Z
LOCATION:Localisation   
CATEGORIES:Sportif
STATUS:
URL;VALUE=URI:https://cluses-bridge.club.ffbridge.fr/evenements/2026/05/26/perfectionnement-pour-tous-ppt-2436183
END:VEVENT
END:VCALENDAR
