BEGIN:VCALENDAR
VERSION:2.0
PRODID:-//hacksw/handcal//NONSGML v1.0//EN
BEGIN:VEVENT
SUMMARY:Groupe SEF
UID:9f267907-cdab-4a52-927c-ff909ab41ea0
DTSTART:20260526T070000Z
DTEND:20260526T093000Z
LOCATION:Localisation   
CATEGORIES:Sportif
STATUS:
URL;VALUE=URI:https://cluses-bridge.club.ffbridge.fr/evenements/2026/05/26/groupe-sef-2436081
END:VEVENT
END:VCALENDAR
