BEGIN:VCALENDAR
VERSION:2.0
PRODID:-//hacksw/handcal//NONSGML v1.0//EN
BEGIN:VEVENT
SUMMARY:Groupe SEF
UID:a1d258c6-7174-4457-9976-6a9a8f6d3bb7
DTSTART:20260519T070000Z
DTEND:20260519T093000Z
LOCATION:Localisation   
CATEGORIES:Sportif
STATUS:
URL;VALUE=URI:https://cluses-bridge.club.ffbridge.fr/evenements/2026/05/19/groupe-sef-2436082
END:VEVENT
END:VCALENDAR
