BEGIN:VCALENDAR
VERSION:2.0
PRODID:-//hacksw/handcal//NONSGML v1.0//EN
BEGIN:VEVENT
SUMMARY:Groupe BF2
UID:c6edfc6e-962c-41b3-b030-e8d557ee3c93
DTSTART:20260519T123000Z
DTEND:20260519T153000Z
LOCATION:Localisation   
CATEGORIES:Sportif
STATUS:
URL;VALUE=URI:https://cluses-bridge.club.ffbridge.fr/evenements/2026/05/19/groupe-bf2-2436091
END:VEVENT
END:VCALENDAR
