BEGIN:VCALENDAR
VERSION:2.0
PRODID:-//hacksw/handcal//NONSGML v1.0//EN
BEGIN:VEVENT
SUMMARY:Tournoi de regularite et BF2
UID:00cc8f5c-78e1-43e9-b3b9-dd09c8aed9ec
DTSTART:20260515T121500Z
DTEND:20260515T161500Z
LOCATION:Bridge Club de Cluses 36 rue du Marcelly Parvis des Esserts 74300 cluses
CATEGORIES:Sportif
STATUS:
URL;VALUE=URI:https://cluses-bridge.club.ffbridge.fr/evenements/2026/05/15/tournoi-de-regularite-et-bf2-2258490
END:VEVENT
END:VCALENDAR
