BEGIN:VCALENDAR
VERSION:2.0
PRODID:-//hacksw/handcal//NONSGML v1.0//EN
BEGIN:VEVENT
SUMMARY:Perfectionnement Pour Tous (PPT)
UID:d66a14db-b553-4044-a42d-4a5d74103ff5
DTSTART:20260512T123000Z
DTEND:20260512T153000Z
LOCATION:Localisation   
CATEGORIES:Sportif
STATUS:
URL;VALUE=URI:https://cluses-bridge.club.ffbridge.fr/evenements/2026/05/12/perfectionnement-pour-tous-ppt-2436184
END:VEVENT
END:VCALENDAR
