BEGIN:VCALENDAR
VERSION:2.0
PRODID:-//hacksw/handcal//NONSGML v1.0//EN
BEGIN:VEVENT
SUMMARY:Groupe SEF
UID:37ab24c9-8a64-4602-abc3-7b71f0bc87d2
DTSTART:20260512T070000Z
DTEND:20260512T093000Z
LOCATION:Localisation   
CATEGORIES:Sportif
STATUS:
URL;VALUE=URI:https://cluses-bridge.club.ffbridge.fr/evenements/2026/05/12/groupe-sef-2436078
END:VEVENT
END:VCALENDAR
