BEGIN:VCALENDAR
VERSION:2.0
PRODID:-//hacksw/handcal//NONSGML v1.0//EN
BEGIN:VEVENT
SUMMARY:tournoi de regularite
UID:416d694b-075c-4dbf-a0b9-0cd5666b780c
DTSTART:20260430T121500Z
DTEND:20260430T161500Z
LOCATION:Localisation   
CATEGORIES:Sportif
STATUS:
URL;VALUE=URI:https://cluses-bridge.club.ffbridge.fr/evenements/2026/04/30/tournoi-de-regularite-2440015
END:VEVENT
END:VCALENDAR
