BEGIN:VCALENDAR
VERSION:2.0
PRODID:-//hacksw/handcal//NONSGML v1.0//EN
BEGIN:VEVENT
SUMMARY:Groupe SEF
UID:f97bf2bd-e3a8-44be-b18e-78552cf40e2e
DTSTART:20260428T070000Z
DTEND:20260428T093000Z
LOCATION:Localisation   
CATEGORIES:Sportif
STATUS:
URL;VALUE=URI:https://cluses-bridge.club.ffbridge.fr/evenements/2026/04/28/groupe-sef-2440025
END:VEVENT
END:VCALENDAR
