BEGIN:VCALENDAR
VERSION:2.0
PRODID:-//hacksw/handcal//NONSGML v1.0//EN
BEGIN:VEVENT
SUMMARY:Groupe PPT (Perfectionnement)
UID:bc8bd54e-a661-40c7-94bc-795ec571b87b
DTSTART:20260428T123000Z
DTEND:20260428T153000Z
LOCATION:Localisation   
CATEGORIES:Sportif
STATUS:
URL;VALUE=URI:https://cluses-bridge.club.ffbridge.fr/evenements/2026/04/28/groupe-ppt-perfectionnement-2440026
END:VEVENT
END:VCALENDAR
