BEGIN:VCALENDAR
VERSION:2.0
PRODID:-//hacksw/handcal//NONSGML v1.0//EN
BEGIN:VEVENT
SUMMARY:Simultane du Roy Rene
UID:55f15550-043b-4481-9642-0d5822962d2e
DTSTART:20260427T121500Z
DTEND:20260427T161500Z
LOCATION:Localisation   
CATEGORIES:Sportif
STATUS:
URL;VALUE=URI:https://cluses-bridge.club.ffbridge.fr/evenements/2026/04/27/simultane-du-roy-rene-2440014
END:VEVENT
END:VCALENDAR
