BEGIN:VCALENDAR
VERSION:2.0
PRODID:-//hacksw/handcal//NONSGML v1.0//EN
BEGIN:VEVENT
SUMMARY:tournoi de regularite
UID:83840086-14ce-4968-858c-1694adcf9a75
DTSTART:20260424T120000Z
DTEND:20260424T160000Z
LOCATION:Localisation   
CATEGORIES:Sportif
STATUS:
URL;VALUE=URI:https://cluses-bridge.club.ffbridge.fr/evenements/2026/04/24/tournoi-de-regularite-2440012
END:VEVENT
END:VCALENDAR
