BEGIN:VCALENDAR
VERSION:2.0
PRODID:-//hacksw/handcal//NONSGML v1.0//EN
BEGIN:VEVENT
SUMMARY:tournoi de regularite
UID:efe02cae-bd25-411a-a853-67e92166d502
DTSTART:20260423T121500Z
DTEND:20260423T121500Z
LOCATION:Localisation   
CATEGORIES:Sportif
STATUS:
URL;VALUE=URI:https://cluses-bridge.club.ffbridge.fr/evenements/2026/04/23/tournoi-de-regularite-2440011
END:VEVENT
END:VCALENDAR
