BEGIN:VCALENDAR
VERSION:2.0
PRODID:-//hacksw/handcal//NONSGML v1.0//EN
BEGIN:VEVENT
SUMMARY:Groupe SEF
UID:f9550206-db30-4ad2-a2e7-91f75c5abce8
DTSTART:20260421T070000Z
DTEND:20260421T093000Z
LOCATION:Localisation   
CATEGORIES:Sportif
STATUS:
URL;VALUE=URI:https://cluses-bridge.club.ffbridge.fr/evenements/2026/04/21/groupe-sef-2440022
END:VEVENT
END:VCALENDAR
