BEGIN:VCALENDAR
VERSION:2.0
PRODID:-//hacksw/handcal//NONSGML v1.0//EN
BEGIN:VEVENT
SUMMARY:Groupe BF2
UID:88647d52-2282-4849-abba-ce8d17c99717
DTSTART:20260421T123000Z
DTEND:20260421T153000Z
LOCATION:Localisation   
CATEGORIES:Sportif
STATUS:
URL;VALUE=URI:https://cluses-bridge.club.ffbridge.fr/evenements/2026/04/21/groupe-bf2-2440024
END:VEVENT
END:VCALENDAR
