BEGIN:VCALENDAR
VERSION:2.0
PRODID:-//hacksw/handcal//NONSGML v1.0//EN
BEGIN:VEVENT
SUMMARY:Coupe des clubs
UID:b7c4fb64-018f-48b6-b2bd-341766f01346
DTSTART:20260420T121500Z
DTEND:20260420T161500Z
LOCATION:Localisation   
CATEGORIES:Sportif
STATUS:
URL;VALUE=URI:https://cluses-bridge.club.ffbridge.fr/evenements/2026/04/20/coupe-des-clubs-2440010
END:VEVENT
END:VCALENDAR
